BEGIN:VCALENDAR
VERSION:2.0
PRODID:icalendar-ruby
CALSCALE:GREGORIAN
BEGIN:VEVENT
DTSTAMP:20210122T045019Z
UID:8c54b01e-d79d-41e2-ac9f-31358e2ec606
DTSTART;VALUE=DATE:20191015
DESCRIPTION:Property ID# 461012\, Locatoin: 16a Foster Road\, Okere Falls\,
  Rotorua\, Time: 1:00PM
SUMMARY:Auction for 
END:VEVENT
END:VCALENDAR
