BEGIN:VCALENDAR
VERSION:2.0
PRODID:icalendar-ruby
CALSCALE:GREGORIAN
BEGIN:VEVENT
DTSTAMP:20210122T045040Z
UID:49689446-1592-4b48-b6b0-94826ceaf1d7
DTSTART;VALUE=DATE:20191009
DESCRIPTION:Property ID# 462037\, Time: 1:00PM
SUMMARY:Auction for 
END:VEVENT
END:VCALENDAR
