BEGIN:VCALENDAR
VERSION:2.0
PRODID:icalendar-ruby
CALSCALE:GREGORIAN
BEGIN:VEVENT
DTSTAMP:20210122T044638Z
UID:90059704-64b0-4588-858e-3d3e70d5a5cd
DTSTART;VALUE=DATE:20191106
DESCRIPTION:Property ID# 463001\, Time: 4:00PM
SUMMARY:Auction for 
END:VEVENT
END:VCALENDAR
