BEGIN:VCALENDAR
VERSION:2.0
PRODID:icalendar-ruby
CALSCALE:GREGORIAN
BEGIN:VEVENT
DTSTAMP:20210122T045433Z
UID:2bc35c44-df94-4eb4-920c-137ca201c116
DTSTART;VALUE=DATE:20191121
DESCRIPTION:Property ID# 464572\, Locatoin: PGG Wrightson Building\, C/O Ma
 rgurita and White Streets\, Time: 1:00PM
SUMMARY:Auction for 
END:VEVENT
END:VCALENDAR
