BEGIN:VCALENDAR
VERSION:2.0
PRODID:icalendar-ruby
CALSCALE:GREGORIAN
BEGIN:VEVENT
DTSTAMP:20210122T045017Z
UID:e6e70484-e2da-43e8-a691-c9040150aeda
DTSTART;VALUE=DATE:20191127
DESCRIPTION:Property ID# 465765\, Locatoin: On site\, Time: 1:00PM
SUMMARY:Auction for 
END:VEVENT
END:VCALENDAR
