BEGIN:VCALENDAR
VERSION:2.0
PRODID:icalendar-ruby
CALSCALE:GREGORIAN
BEGIN:VEVENT
DTSTAMP:20210122T044634Z
UID:9150ddb6-918d-4bb2-a2f3-41e51b1b9c4f
DTSTART;VALUE=DATE:20191203
DESCRIPTION:Property ID# 466403\, Locatoin: On Site\, Time: 6:00PM
SUMMARY:Auction for 
END:VEVENT
END:VCALENDAR
