BEGIN:VCALENDAR
VERSION:2.0
PRODID:icalendar-ruby
CALSCALE:GREGORIAN
BEGIN:VEVENT
DTSTAMP:20210122T045039Z
UID:3842173e-e911-42c6-84b6-21ef5b76f126
DTSTART;VALUE=DATE:20191204
DESCRIPTION:Property ID# 467058\, Time: 1:00PM
SUMMARY:Auction for 
END:VEVENT
END:VCALENDAR
