BEGIN:VCALENDAR
VERSION:2.0
PRODID:icalendar-ruby
CALSCALE:GREGORIAN
BEGIN:VEVENT
DTSTAMP:20210122T044702Z
UID:fcc4b779-106f-4700-a9f5-0c9ae7af7620
DTSTART;VALUE=DATE:20200213
DESCRIPTION:Property ID# 469427\, Locatoin: Bayleys Office\, 1092 Fenton St
 reet\, Rotorua\, Time: 12:00PM
SUMMARY:Auction for 
END:VEVENT
END:VCALENDAR
