BEGIN:VCALENDAR
VERSION:2.0
PRODID:icalendar-ruby
CALSCALE:GREGORIAN
BEGIN:VEVENT
DTSTAMP:20210122T044700Z
UID:44cd7282-9bd9-466d-9b4a-d51bff6e2395
DTSTART;VALUE=DATE:20200211
DESCRIPTION:Property ID# 469429\, Locatoin: Motion Entertainment Centre\, T
 ime: 12:00PM
SUMMARY:Auction for 
END:VEVENT
END:VCALENDAR
