BEGIN:VCALENDAR
VERSION:2.0
PRODID:icalendar-ruby
CALSCALE:GREGORIAN
BEGIN:VEVENT
DTSTAMP:20210122T044704Z
UID:6f6c7f12-a681-4ad9-8790-bf06afe84155
DTSTART;VALUE=DATE:20200630
DESCRIPTION:Property ID# 469652\, Locatoin: Bayleys Office\, 1092 Fenton St
 reet\, Rotorua\, Time: 4:00PM
SUMMARY:Auction for 
END:VEVENT
END:VCALENDAR
