BEGIN:VCALENDAR
VERSION:2.0
PRODID:icalendar-ruby
CALSCALE:GREGORIAN
BEGIN:VEVENT
DTSTAMP:20210122T045034Z
UID:c0e1975f-62e2-42d7-a304-b6e9d3fe6f3c
DTSTART;VALUE=DATE:20200220
DESCRIPTION:Property ID# 471675\, Locatoin: Ray White Auction Room\, 1239 A
 mohia Street\, Rotorua (unless sold prior)\, Time: 1:00PM
SUMMARY:Auction for 
END:VEVENT
END:VCALENDAR
