BEGIN:VCALENDAR
VERSION:2.0
PRODID:icalendar-ruby
CALSCALE:GREGORIAN
BEGIN:VEVENT
DTSTAMP:20210122T044656Z
UID:4368a8ba-3666-4f46-b822-fc0779fc927b
DTSTART;VALUE=DATE:20200630
DESCRIPTION:Property ID# 472423\, Locatoin: Bayleys Office\, 1092 Fenton St
 reet\, Rotorua\, Time: 4:00PM
SUMMARY:Auction for 35 Spencer Road
END:VEVENT
END:VCALENDAR
