BEGIN:VCALENDAR
VERSION:2.0
PRODID:icalendar-ruby
CALSCALE:GREGORIAN
BEGIN:VEVENT
DTSTAMP:20210122T045457Z
UID:d67d21b9-4c45-46a4-acbb-6d9390e642a6
DTSTART;VALUE=DATE:20200312
DESCRIPTION:Property ID# 473662\, Time: 4:00PM
SUMMARY:Auction for 
END:VEVENT
END:VCALENDAR
