BEGIN:VCALENDAR
VERSION:2.0
PRODID:icalendar-ruby
CALSCALE:GREGORIAN
BEGIN:VEVENT
DTSTAMP:20210122T045032Z
UID:ea9561fb-a856-466e-8f6c-db4dc2280fe7
DTSTART;VALUE=DATE:20200311
DESCRIPTION:Property ID# 474193\, Locatoin: On Site\, Time: 6:30PM
SUMMARY:Auction for 
END:VEVENT
END:VCALENDAR
