BEGIN:VCALENDAR
VERSION:2.0
PRODID:icalendar-ruby
CALSCALE:GREGORIAN
BEGIN:VEVENT
DTSTAMP:20210122T044659Z
UID:fb4365e3-1367-49b1-a2ba-0642eaf1050f
DTSTART;VALUE=DATE:20200324
DESCRIPTION:Property ID# 474370\, Locatoin: Motion Entertainment\, 346 Te N
 gae Road\, Rotorua\, Time: 1:00PM
SUMMARY:Auction for 
END:VEVENT
END:VCALENDAR
