BEGIN:VCALENDAR
VERSION:2.0
PRODID:icalendar-ruby
CALSCALE:GREGORIAN
BEGIN:VEVENT
DTSTAMP:20210122T045028Z
UID:a3b777c6-587b-465a-9fc4-1ab3d1394a76
DTSTART;VALUE=DATE:20200506
DESCRIPTION:Property ID# 475992\, Locatoin: GAVL.com\, Time: 5:30PM
SUMMARY:Auction for 
END:VEVENT
END:VCALENDAR
