BEGIN:VCALENDAR
VERSION:2.0
PRODID:icalendar-ruby
CALSCALE:GREGORIAN
BEGIN:VEVENT
DTSTAMP:20210122T045446Z
UID:058f7d84-4a3c-4ae0-9e84-6ccd4c7c957c
DTSTART;VALUE=DATE:20200624
DESCRIPTION:Property ID# 476404\, Locatoin: 1239 Amohia Street\, Rotorua (u
 nless sold prior)\, Time: 4:00PM
SUMMARY:Auction for 
END:VEVENT
END:VCALENDAR
