BEGIN:VCALENDAR
VERSION:2.0
PRODID:icalendar-ruby
CALSCALE:GREGORIAN
BEGIN:VEVENT
DTSTAMP:20210122T045455Z
UID:e8ce5d4c-00b1-435e-a403-34b68306ad55
DTSTART;VALUE=DATE:20200527
DESCRIPTION:Property ID# 476611\, Time: 4:00PM
SUMMARY:Auction for 
END:VEVENT
END:VCALENDAR
