BEGIN:VCALENDAR
VERSION:2.0
PRODID:icalendar-ruby
CALSCALE:GREGORIAN
BEGIN:VEVENT
DTSTAMP:20210122T045448Z
UID:92a1d1cc-5c5f-4dce-9c52-e95d2b2af6ef
DTSTART;VALUE=DATE:20200603
DESCRIPTION:Property ID# 477320\, Locatoin: Ray White Auction Room\, 1239 A
 mohia Street\, Rotorua (unless sold prior)\, Time: 1:00PM
SUMMARY:Auction for 
END:VEVENT
END:VCALENDAR
