BEGIN:VCALENDAR
VERSION:2.0
PRODID:icalendar-ruby
CALSCALE:GREGORIAN
BEGIN:VEVENT
DTSTAMP:20210122T045027Z
UID:27d9ff89-90fd-4200-9cd4-4f24acd4caf4
DTSTART;VALUE=DATE:20200617
DESCRIPTION:Property ID# 481606\, Locatoin: Ray White Auction Room\, 1239 A
 mohia Street\, Rotorua (unless sold prior)\, Time: 5:30PM
SUMMARY:Auction for 
END:VEVENT
END:VCALENDAR
