BEGIN:VCALENDAR
VERSION:2.0
PRODID:icalendar-ruby
CALSCALE:GREGORIAN
BEGIN:VEVENT
DTSTAMP:20210122T045445Z
UID:415ae26c-fa15-4e3c-9c6b-d050c97c24af
DTSTART;VALUE=DATE:20200813
DESCRIPTION:Property ID# 485054\, Time: 4:00PM
SUMMARY:Auction for 
END:VEVENT
END:VCALENDAR
