BEGIN:VCALENDAR
VERSION:2.0
PRODID:icalendar-ruby
CALSCALE:GREGORIAN
BEGIN:VEVENT
DTSTAMP:20210122T045444Z
UID:6cd605b5-b4db-4d0a-99f6-562514ef552a
DTSTART;VALUE=DATE:20200909
DESCRIPTION:Property ID# 486309\, Time: 1:00PM
SUMMARY:Auction for 
END:VEVENT
END:VCALENDAR
