BEGIN:VCALENDAR
VERSION:2.0
PRODID:icalendar-ruby
CALSCALE:GREGORIAN
BEGIN:VEVENT
DTSTAMP:20210122T045016Z
UID:eff34542-27b2-4a3a-8a48-2f69d41e0b7e
DTSTART;VALUE=DATE:20200930
DESCRIPTION:Property ID# 487974\, Locatoin: On site (unless sold prior)\, T
 ime: 12:00PM
SUMMARY:Auction for 
END:VEVENT
END:VCALENDAR
