BEGIN:VCALENDAR
VERSION:2.0
PRODID:icalendar-ruby
CALSCALE:GREGORIAN
BEGIN:VEVENT
DTSTAMP:20210122T045026Z
UID:71179a6f-7c72-4b6a-b194-f16dbe3cfca5
DTSTART;VALUE=DATE:20200923
DESCRIPTION:Property ID# 488604\, Locatoin: Ray White Auction Room\, 1239 A
 mohia Street\, Rotorua\, Time: 1:00PM
SUMMARY:Auction for 
END:VEVENT
END:VCALENDAR
