BEGIN:VCALENDAR
VERSION:2.0
PRODID:icalendar-ruby
CALSCALE:GREGORIAN
BEGIN:VEVENT
DTSTAMP:20210122T045452Z
UID:8f46c594-7ece-48bf-9d1d-4401d803fa5b
DTSTART;VALUE=DATE:20201015
DESCRIPTION:Property ID# 490940\, Time: 4:00PM
SUMMARY:Auction for 
END:VEVENT
END:VCALENDAR
