BEGIN:VCALENDAR
VERSION:2.0
PRODID:icalendar-ruby
CALSCALE:GREGORIAN
BEGIN:VEVENT
DTSTAMP:20210122T045014Z
UID:e3022d63-9810-44fd-ae7c-98f7154a453b
DTSTART;VALUE=DATE:20201103
DESCRIPTION:Property ID# 491069\, Locatoin: On site\, Time: 12:00PM
SUMMARY:Auction for 
END:VEVENT
END:VCALENDAR
