BEGIN:VCALENDAR
VERSION:2.0
PRODID:icalendar-ruby
CALSCALE:GREGORIAN
BEGIN:VEVENT
DTSTAMP:20210122T045052Z
UID:c3e73adb-69f5-45ce-9874-0c3a87c31b49
DTSTART;VALUE=DATE:20201028
DESCRIPTION:Property ID# 491901\, Time: 4:00PM
SUMMARY:Auction for 
END:VEVENT
END:VCALENDAR
