BEGIN:VCALENDAR
VERSION:2.0
PRODID:icalendar-ruby
CALSCALE:GREGORIAN
BEGIN:VEVENT
DTSTAMP:20210122T044654Z
UID:7fb99486-b152-4b29-9d0a-22e12c8ad43c
DTSTART;VALUE=DATE:20201112
DESCRIPTION:Property ID# 492642\, Time: 4:00PM
SUMMARY:Auction for 
END:VEVENT
END:VCALENDAR
