BEGIN:VCALENDAR
VERSION:2.0
PRODID:icalendar-ruby
CALSCALE:GREGORIAN
BEGIN:VEVENT
DTSTAMP:20210122T044653Z
UID:0c646b5d-1012-4abe-8943-5a0c9b7b394a
DTSTART;VALUE=DATE:20201111
DESCRIPTION:Property ID# 493142\, Locatoin: Ray White Auction Room\, 1239 A
 mohia Street\, Rotorua (unless sold prior)\, Time: 1:00PM
SUMMARY:Auction for 
END:VEVENT
END:VCALENDAR
