BEGIN:VCALENDAR
VERSION:2.0
PRODID:icalendar-ruby
CALSCALE:GREGORIAN
BEGIN:VEVENT
DTSTAMP:20210122T045451Z
UID:3f455274-d6d7-4d6e-9cf3-bafd981839c7
DTSTART;VALUE=DATE:20201202
DESCRIPTION:Property ID# 495132\, Time: 1:00PM
SUMMARY:Auction for 
END:VEVENT
END:VCALENDAR
