BEGIN:VCALENDAR
VERSION:2.0
PRODID:icalendar-ruby
CALSCALE:GREGORIAN
BEGIN:VEVENT
DTSTAMP:20210122T044648Z
UID:2d2ccbb6-c670-4749-9945-734e340f368a
DTSTART;VALUE=DATE:20201221
DESCRIPTION:Property ID# 497451\, Time: 4:00PM
SUMMARY:Auction for 
END:VEVENT
END:VCALENDAR
