BEGIN:VCALENDAR
VERSION:2.0
PRODID:icalendar-ruby
CALSCALE:GREGORIAN
BEGIN:VEVENT
DTSTAMP:20210122T044632Z
UID:dcb814b6-037e-4706-8a60-14ab79ba5425
DTSTART;VALUE=DATE:20210218
DESCRIPTION:Property ID# 497938\, Time: 1:00PM
SUMMARY:Auction for 414F Dalbeth Road
END:VEVENT
END:VCALENDAR
