BEGIN:VCALENDAR
VERSION:2.0
PRODID:icalendar-ruby
CALSCALE:GREGORIAN
BEGIN:VEVENT
DTSTAMP:20210122T045047Z
UID:b1f00d07-3cef-4569-95e0-d31475125728
DTSTART;VALUE=DATE:20210127
DESCRIPTION:Property ID# 497939\, Locatoin: Ray White Rotorua\, Time: 4:00P
 M
SUMMARY:Auction for 36E Collingwood Drive
END:VEVENT
END:VCALENDAR
