BEGIN:VCALENDAR
VERSION:2.0
PRODID:icalendar-ruby
CALSCALE:GREGORIAN
BEGIN:VEVENT
DTSTAMP:20210122T045048Z
UID:869eda29-f3e6-48c0-a1de-4ec47e9d509a
DTSTART;VALUE=DATE:20210127
DESCRIPTION:Property ID# 498467\, Locatoin: Ray White Auction Room\, 1239 A
 mohia Street\, Rotorua (unless sold prior)\, Time: 1:00PM
SUMMARY:Auction for 12 Pretoria Street
END:VEVENT
END:VCALENDAR
