BEGIN:VCALENDAR
VERSION:2.0
PRODID:icalendar-ruby
CALSCALE:GREGORIAN
BEGIN:VEVENT
DTSTAMP:20210122T045045Z
UID:0b9a7b34-fce3-43d8-b538-5d330f41898a
DTSTART;VALUE=DATE:20210127
DESCRIPTION:Property ID# 498471\, Time: 1:00PM
SUMMARY:Auction for 20 Gemini St
END:VEVENT
END:VCALENDAR
