BEGIN:VCALENDAR
VERSION:2.0
PRODID:icalendar-ruby
CALSCALE:GREGORIAN
BEGIN:VEVENT
DTSTAMP:20210122T044257Z
UID:d9ee43eb-192d-46cb-a24f-a3acca535382
DTSTART;VALUE=DATE:20210115
DESCRIPTION:Property ID# 498624\, Locatoin: Bayleys Office\, 1092 Fenton St
 reet\, Rotorua\, Time: 4:00PM
SUMMARY:Auction for 236 Spencer Road
END:VEVENT
END:VCALENDAR
