BEGIN:VCALENDAR
VERSION:2.0
PRODID:icalendar-ruby
CALSCALE:GREGORIAN
BEGIN:VEVENT
DTSTAMP:20210122T045428Z
UID:af61e171-f40f-4bae-b27a-0c5e71275edf
DTSTART;VALUE=DATE:20210223
DESCRIPTION:Property ID# 498669\, Locatoin: PGG Wrightson Building\, Corner
 s Marguerita and White Streets Rotorua\, Time: 4:00PM
SUMMARY:Auction for 1994 Manawahe Rd
END:VEVENT
END:VCALENDAR
