BEGIN:VCALENDAR
VERSION:2.0
PRODID:icalendar-ruby
CALSCALE:GREGORIAN
BEGIN:VEVENT
DTSTAMP:20210122T044643Z
UID:fefeb701-4ff3-40fe-a75c-b7fd97ba51df
DTSTART;VALUE=DATE:20210211
DESCRIPTION:Property ID# 499678\, Time: 4:00PM
SUMMARY:Auction for 25 Hodgkins Street
END:VEVENT
END:VCALENDAR
