BEGIN:VCALENDAR
VERSION:2.0
PRODID:icalendar-ruby
CALSCALE:GREGORIAN
BEGIN:VEVENT
DTSTAMP:20210122T044641Z
UID:53767c64-7ea8-40de-839f-ceb4ca4bb2ce
DTSTART;VALUE=DATE:20210211
DESCRIPTION:Property ID# 499764\, Time: 4:00PM
SUMMARY:Auction for 6 Arthur Street
END:VEVENT
END:VCALENDAR
