BEGIN:VCALENDAR
VERSION:2.0
PRODID:icalendar-ruby
CALSCALE:GREGORIAN
BEGIN:VEVENT
DTSTAMP:20210122T045440Z
UID:943dcaad-b0f3-4372-8094-3e99baca36c0
DTSTART;VALUE=DATE:20210203
DESCRIPTION:Property ID# 499941\, Time: 4:00PM
SUMMARY:Auction for 5 Ewert Street
END:VEVENT
END:VCALENDAR
