BEGIN:VCALENDAR
VERSION:2.0
PRODID:icalendar-ruby
CALSCALE:GREGORIAN
BEGIN:VEVENT
DTSTAMP:20210122T045041Z
UID:63b2de5d-dda1-491f-9d7a-66d5f0b7ecd1
DTSTART;VALUE=DATE:20210203
DESCRIPTION:Property ID# 500052\, Time: 4:00PM
SUMMARY:Auction for 1/87 Mallard Drive
END:VEVENT
END:VCALENDAR
