BEGIN:VCALENDAR
VERSION:2.0
PRODID:icalendar-ruby
CALSCALE:GREGORIAN
BEGIN:VEVENT
DTSTAMP:20210122T045425Z
UID:bf4d9f3f-c576-4765-bc46-ac417c49f98c
DTSTART;TZID=Pacific/Auckland:20210127T110000
DTEND;TZID=Pacific/Auckland:20210127T120000
DESCRIPTION:Property ID# 498669
SUMMARY:Openhome for 1994 Manawahe Rd
END:VEVENT
END:VCALENDAR
